BEGIN:VCALENDAR
VERSION:2.0
PRODID:-//Cyclo-cargologie - ECPv6.15.14//NONSGML v1.0//EN
CALSCALE:GREGORIAN
METHOD:PUBLISH
X-WR-CALNAME:Cyclo-cargologie
X-ORIGINAL-URL:https://cyclocargologie.fr
X-WR-CALDESC:évènements pour Cyclo-cargologie
REFRESH-INTERVAL;VALUE=DURATION:PT1H
X-Robots-Tag:noindex
X-PUBLISHED-TTL:PT1H
BEGIN:VTIMEZONE
TZID:Europe/Helsinki
BEGIN:DAYLIGHT
TZOFFSETFROM:+0200
TZOFFSETTO:+0300
TZNAME:EEST
DTSTART:20240331T010000
END:DAYLIGHT
BEGIN:STANDARD
TZOFFSETFROM:+0300
TZOFFSETTO:+0200
TZNAME:EET
DTSTART:20241027T010000
END:STANDARD
BEGIN:DAYLIGHT
TZOFFSETFROM:+0200
TZOFFSETTO:+0300
TZNAME:EEST
DTSTART:20250330T010000
END:DAYLIGHT
BEGIN:STANDARD
TZOFFSETFROM:+0300
TZOFFSETTO:+0200
TZNAME:EET
DTSTART:20251026T010000
END:STANDARD
BEGIN:DAYLIGHT
TZOFFSETFROM:+0200
TZOFFSETTO:+0300
TZNAME:EEST
DTSTART:20260329T010000
END:DAYLIGHT
BEGIN:STANDARD
TZOFFSETFROM:+0300
TZOFFSETTO:+0200
TZNAME:EET
DTSTART:20261025T010000
END:STANDARD
BEGIN:DAYLIGHT
TZOFFSETFROM:+0200
TZOFFSETTO:+0300
TZNAME:EEST
DTSTART:20270328T010000
END:DAYLIGHT
BEGIN:STANDARD
TZOFFSETFROM:+0300
TZOFFSETTO:+0200
TZNAME:EET
DTSTART:20271031T010000
END:STANDARD
END:VTIMEZONE
BEGIN:VEVENT
DTSTART;TZID=Europe/Helsinki:20251209T140000
DTEND;TZID=Europe/Helsinki:20251209T150000
DTSTAMP:20260420T115227
CREATED:20250929T085228Z
LAST-MODIFIED:20250929T085228Z
UID:1533-1765288800-1765292400@cyclocargologie.fr
SUMMARY:Webinaire - Commande publique et cyclologistique
DESCRIPTION:
URL:https://cyclocargologie.fr/evenement/webinaire-commande-publique-et-cyclologistique-4/
CATEGORIES:Webinaire
ATTACH;FMTTYPE=image/jpeg:https://cyclocargologie.fr/wp-content/uploads/2024/03/p3.jpg
END:VEVENT
BEGIN:VEVENT
DTSTART;TZID=Europe/Helsinki:20251211T130000
DTEND;TZID=Europe/Helsinki:20251211T140000
DTSTAMP:20260420T115227
CREATED:20250929T103848Z
LAST-MODIFIED:20250929T104004Z
UID:1544-1765458000-1765461600@cyclocargologie.fr
SUMMARY:Webinaire - Comment transporter des déchets à vélo ?
DESCRIPTION:
URL:https://cyclocargologie.fr/evenement/webinaire-comment-transporter-des-dechets-a-velo-2/
CATEGORIES:Webinaire
ATTACH;FMTTYPE=image/jpeg:https://cyclocargologie.fr/wp-content/uploads/2025/06/06_16-9_Illustration_Velo2Remorques-scaled.jpg
END:VEVENT
BEGIN:VEVENT
DTSTART;TZID=Europe/Helsinki:20260121T130000
DTEND;TZID=Europe/Helsinki:20260121T140000
DTSTAMP:20260420T115227
CREATED:20251023T074000Z
LAST-MODIFIED:20251023T074000Z
UID:1635-1769000400-1769004000@cyclocargologie.fr
SUMMARY:Webinaire - Comment transporter des palettes à vélo ?
DESCRIPTION:
URL:https://cyclocargologie.fr/evenement/webinaire-comment-transporter-des-palettes-a-velo-2/
CATEGORIES:Webinaire
ATTACH;FMTTYPE=image/jpeg:https://cyclocargologie.fr/wp-content/uploads/2025/06/07_16-9_Illustration_BiporteurFormation-scaled.jpg
END:VEVENT
BEGIN:VEVENT
DTSTART;TZID=Europe/Helsinki:20260203T130000
DTEND;TZID=Europe/Helsinki:20260203T140000
DTSTAMP:20260420T115227
CREATED:20251023T064317Z
LAST-MODIFIED:20251023T074511Z
UID:1633-1770123600-1770127200@cyclocargologie.fr
SUMMARY:Webinaire - Comment transporter des colis à vélo ?
DESCRIPTION:
URL:https://cyclocargologie.fr/evenement/webinaire-comment-transporter-des-colis-a-velo-2/
CATEGORIES:Webinaire
ATTACH;FMTTYPE=image/jpeg:https://cyclocargologie.fr/wp-content/uploads/2025/09/05_16-9_Illustration_RemorqueCarton-scaled.jpg
END:VEVENT
BEGIN:VEVENT
DTSTART;TZID=Europe/Helsinki:20260204T140000
DTEND;TZID=Europe/Helsinki:20260204T150000
DTSTAMP:20260420T115227
CREATED:20251209T143711Z
LAST-MODIFIED:20251209T144229Z
UID:1784-1770213600-1770217200@cyclocargologie.fr
SUMMARY:Webinaire - Commande publique et cyclologistique
DESCRIPTION:
URL:https://cyclocargologie.fr/evenement/webinaire-commande-publique-et-cyclologistique-5/
CATEGORIES:Webinaire
ATTACH;FMTTYPE=image/jpeg:https://cyclocargologie.fr/wp-content/uploads/2024/03/p3.jpg
END:VEVENT
BEGIN:VEVENT
DTSTART;TZID=Europe/Helsinki:20260410T140000
DTEND;TZID=Europe/Helsinki:20260410T150000
DTSTAMP:20260420T115227
CREATED:20260327T131655Z
LAST-MODIFIED:20260327T131655Z
UID:2007-1775829600-1775833200@cyclocargologie.fr
SUMMARY:Webinaire - Comment transporter des palettes à vélo(-cargo) ?
DESCRIPTION:
URL:https://cyclocargologie.fr/evenement/webinaire-comment-transporter-des-palettes-a-velo-cargo/
CATEGORIES:Webinaire
ATTACH;FMTTYPE=image/jpeg:https://cyclocargologie.fr/wp-content/uploads/2025/06/07_16-9_Illustration_BiporteurFormation-scaled.jpg
END:VEVENT
BEGIN:VEVENT
DTSTART;TZID=Europe/Helsinki:20260519T140000
DTEND;TZID=Europe/Helsinki:20260519T150000
DTSTAMP:20260420T115227
CREATED:20260327T131425Z
LAST-MODIFIED:20260327T131425Z
UID:2006-1779199200-1779202800@cyclocargologie.fr
SUMMARY:Webinaire - Comment transporter des déchets à vélo(-cargo) ?
DESCRIPTION:
URL:https://cyclocargologie.fr/evenement/webinaire-comment-transporter-des-dechets-a-velo-cargo/
CATEGORIES:Webinaire
ATTACH;FMTTYPE=image/jpeg:https://cyclocargologie.fr/wp-content/uploads/2025/06/06_16-9_Illustration_Velo2Remorques-scaled.jpg
END:VEVENT
BEGIN:VEVENT
DTSTART;TZID=Europe/Helsinki:20260522T140000
DTEND;TZID=Europe/Helsinki:20260522T150000
DTSTAMP:20260420T115227
CREATED:20260327T131120Z
LAST-MODIFIED:20260327T131120Z
UID:2004-1779458400-1779462000@cyclocargologie.fr
SUMMARY:Webinaire - Comment transporter des colis à vélo(-cargo) ?
DESCRIPTION:
URL:https://cyclocargologie.fr/evenement/webinaire-comment-transporter-des-colis-a-velo-cargo/
CATEGORIES:Webinaire
ATTACH;FMTTYPE=image/jpeg:https://cyclocargologie.fr/wp-content/uploads/2025/09/05_16-9_Illustration_RemorqueCarton-scaled.jpg
END:VEVENT
END:VCALENDAR